BEGIN:VCALENDAR
VERSION:2.0
PRODID:-//eventon.com NONSGML v1.0//EN
BEGIN:VEVENT
UID:69e61b34e578e
DTSTAMP:20260420T132524
DTSTART:20240208T221500Z
DTEND:20240209T004500Z
TZID:Pacific/Midway
LOCATION:
SUMMARY:Tertúlia "Violência Escolar"
DESCRIPTION: 
URL:https://www.hbg.pt/Eventos/tertulia-violencia-escolar/
END:VEVENT
END:VCALENDAR