BEGIN:VCALENDAR
VERSION:2.0
PRODID:-//eventon.com NONSGML v1.0//EN
BEGIN:VEVENT
UID:69e5e5f1b57dc
DTSTAMP:20260420T093809
DTSTART:20250606T204500Z
DTEND:20250607T000000Z
TZID:Pacific/Midway
LOCATION:Escola HBG Estrada da liberdade\,  1\,  Funchal
SUMMARY:Festa de Encerramento do Desporto Escolar HBG
DESCRIPTION: Realiza-se no dia 6 de junho\,  a Festa de Encerramento do Desporto Escolar da nossa escola. Pretende-se apresentar à comunidade escolar as modalidades que a escola ofereceu no âmbito do desporto escolar e ao mesmo tempo proporcionar a todos os alunos dos núcleos desportivos um convívio mais próximo. Serão entregues[..]
URL:https://www.hbg.pt/Eventos/festa-de-encerramento-do-desporto-escolar-hbg-2/
END:VEVENT
END:VCALENDAR