BEGIN:VCALENDAR
VERSION:2.0
PRODID:-//eventon.com NONSGML v1.0//EN
BEGIN:VEVENT
UID:69e607ca40546
DTSTAMP:20260420T120234
DTSTART:20260317T223000Z
DTEND:20260317T225000Z
TZID:Pacific/Midway
LOCATION:Escadas Polivalente 
SUMMARY:Hastear da Bandeira Verde e Azul
DESCRIPTION: Hastear da Bandeira Verde | Projeto Eco-Escolas Hastear da Bandeira Azul | Projeto Escola Azul
URL:https://www.hbg.pt/Eventos/hastear-da-bandeira-verde-e-azul-2/
END:VEVENT
END:VCALENDAR