BEGIN:VCALENDAR
VERSION:2.0
PRODID:-//eventon.com NONSGML v1.0//EN
BEGIN:VEVENT
UID:69e5f5b707213
DTSTAMP:20260420T104527
DTSTART:20210626T013000Z
DTEND:20210626T021500Z
TZID:Pacific/Midway
LOCATION:Escola HBG Estrada da liberdade\,  1\,  Funchal
SUMMARY:Ação de informação: " O Cidadão e os Resíduos Sólidos Urbanos"
DESCRIPTION: Objetivo: Promover a reflexão sobre a problemática do excesso produção de resíduos\,  a sua correta separação e encaminhamento. Entidade responsável: CMF&nbsp;&nbsp;&nbsp;&nbsp;&nbsp;&nbsp;&nbsp;&nbsp;&nbsp;&nbsp;&nbsp;&nbsp;Orador: Pedro Silva&nbsp; &nbsp; &nbsp; &nbsp; &nbsp; &nbsp; &nbsp; Local: Sala de aula. Destinatários: 2ºCiclo Obs: falta adicionar o dia 28/06 das 9:15-10:00h.
URL:https://www.hbg.pt/Eventos/acao-de-informacao-o-cidadao-e-os-residuos-solidos-urbanos-3/var/ri-2.l-L1
END:VEVENT
END:VCALENDAR