BEGIN:VCALENDAR
VERSION:2.0
PRODID:-//eventon.com NONSGML v1.0//EN
BEGIN:VEVENT
UID:69e5e5d116cb5
DTSTAMP:20260420T093737
DTSTART:20211210T010000Z
DTEND:20211211T040000Z
TZID:Pacific/Midway
LOCATION:Centro de Química da Madeira Centro de Química da Madeira Campus Universitário da Penteada 9020-105 Funchal  Telef.: 291 705150  E-mail: qdiv@uma.pt
SUMMARY:Química Divertida 2021 - visita de estudo
DESCRIPTION: Realiza-se nos próximos dias 25 e 26 de novembro a 26ªedição da &#8220;Química é Divertida&#8221;\,  dedicada ao tema &#8220;Um mundo de cores&#8221;. As atividades irão decorrer nos laboratórios do Centro de Química da Madeira da UMa\,  localizado no Madeira Tecnopolo. Anualmente recebem visitas organizadas pelas escolas que envolvam alunos de[..]
URL:https://www.hbg.pt/Eventos/quimica-divertida-2021-visita-de-estudo/var/ri-2.l-L1
END:VEVENT
END:VCALENDAR