BEGIN:VCALENDAR
VERSION:2.0
PRODID:-//eventon.com NONSGML v1.0//EN
BEGIN:VEVENT
UID:69e607d8d1e22
DTSTAMP:20260420T120248
DTSTART:20220101T080000Z
DTEND:20220101T105000Z
TZID:Pacific/Midway
LOCATION:Escola HBG Estrada da liberdade\,  1\,  Funchal
SUMMARY:Votação da frase ecoHBG 2022
DESCRIPTION: Os alunos  identificaram um conjunto de atitudes e comportamentos conducentes àmelhoria do ambiente na escola\,  em casa e na sua região. Das 10 frases selecionadas vamos escolher a frase ecoHBG do ano 2022. Vota neste link 
URL:https://www.hbg.pt/Eventos/votacao-da-frase-ecohbg-2022/var/ri-2.l-L1
END:VEVENT
END:VCALENDAR