BEGIN:VCALENDAR
VERSION:2.0
PRODID:-//eventon.com NONSGML v1.0//EN
BEGIN:VEVENT
UID:69e5e5c96d1f2
DTSTAMP:20260420T093729
DTSTART:20220324T020000Z
DTEND:20220324T033000Z
TZID:Pacific/Midway
LOCATION:
SUMMARY:Olimpíadas de Biologia Júnior - 2ª eliminação
DESCRIPTION: Os alunos apurados na 1ª eliminatória nacional irão prestar provas no dia 23 de março na 2ª eliminatória.&nbsp;
URL:https://www.hbg.pt/Eventos/olimpiadas-de-biologia-junior-2a-eliminacao/
END:VEVENT
END:VCALENDAR