BEGIN:VCALENDAR
VERSION:2.0
PRODID:-//eventon.com NONSGML v1.0//EN
BEGIN:VEVENT
UID:69e5e5cce972b
DTSTAMP:20260420T093732
DTSTART:20220418T110000Z
DTEND:20220422T110000Z
TZID:Pacific/Midway
LOCATION:Delegação Regional da Madeira do Banco de Portugal Avenida Arriaga\,  8. 9000-064 Funchal
SUMMARY:Visita de estudo à Delegação Regional do Banco de Portugal
DESCRIPTION: No âmbito da disciplina de Geografia\,  nos dias 28 e 30 de março e 1 de abril de 2022\,  os alunos das turmas 6 e 11 do 9ºano de escolaridade\,  realizaram uma visita de estudo à Delegação Regional da Madeira do Banco de Portugal. Aqui foi ministrada a ação:&nbsp;´Informação sobre[..]
URL:https://www.hbg.pt/Eventos/visita-de-estudo-a-delegacao-regional-do-banco-de-portugal/var/ri-3.l-L1
END:VEVENT
END:VCALENDAR