BEGIN:VCALENDAR
VERSION:2.0
PRODID:-//eventon.com NONSGML v1.0//EN
BEGIN:VEVENT
UID:69e5e54aa047f
DTSTAMP:20260420T093522
DTSTART:20220602T201500Z
DTEND:20220603T054500Z
TZID:Pacific/Midway
LOCATION:Pavilhão Núcleo Desportivo Oeste
SUMMARY:Projeto “Eu sei proteger”
DESCRIPTION: Cultura de segurança nas escolas através da realidade virtual O Projeto Educação para a Segurança e Prevenção de Riscos\,  em colaboração com o grupo disciplinar de Educação Física\,  organizará uma atividade de realidade virtual\,  implementado o projeto “Eu Sei Proteger” do Serviço Regional de Proteção Civil da Madeira\,  nos dias[..]
URL:https://www.hbg.pt/Eventos/projeto-eu-sei-proteger/var/ri-2.l-L1
END:VEVENT
END:VCALENDAR